BEGIN:VCALENDAR
PRODID:-//eluceo/ical//2.0/EN
VERSION:2.0
CALSCALE:GREGORIAN
BEGIN:VEVENT
UID:fb4055837b636689a4a19fde2c83b96d
DTSTAMP:20260420T172349Z
SUMMARY:11. Chemnitzer BallettBenefizGala
DESCRIPTION:Im Mai versammeln sich talentierte Tänzer:innen renommierter C
 ompanys und Hochschulen\, um beeindruckende Tanzkunst zu präsentieren und
  gleichzeitig Geld für karitative Zwecke zu sammeln\, was diese elfte Auf
 lage zu einem besonderen Erlebnis macht.
URL:https://www.meinplaner.com
DTSTART;TZID=Europe/Amsterdam:20260509T193000
DTEND;TZID=Europe/Amsterdam:20260509T213000
LOCATION:Theaterplatz  2\, 09111 Chemnitz
BEGIN:VALARM
ACTION:DISPLAY
DESCRIPTION:Erinnerung: 11. Chemnitzer BallettBenefizGala beginnt in 1 Stun
 de
TRIGGER;RELATED=END:-PT1H
END:VALARM
END:VEVENT
END:VCALENDAR
