BEGIN:VCALENDAR
PRODID:-//eluceo/ical//2.0/EN
VERSION:2.0
CALSCALE:GREGORIAN
BEGIN:VEVENT
UID:171833c4a97313cfe316e59dadc89abe
DTSTAMP:20260425T113415Z
SUMMARY:Pochen Symposium: Nichts zu erben? Trotzdem flüssig bleiben!
DESCRIPTION:Im Finanzworkshop am Frühstückstisch erklärt Kristin Kubanek
 \, warum viele Geldanlage aufschieben und welche Gründe dahinterstehen. D
 ie Teilnehmer erhalten alltagstaugliche Impulse\, um sich auch ohne Vorwis
 sen mit ihrer finanziellen Zukunft auseinanderzusetzen.
URL:https://www.meinplaner.com
DTSTART;TZID=Europe/Amsterdam:20260509T103000
DTEND;TZID=Europe/Amsterdam:20260509T120000
LOCATION:Am Rathaus 8\, 09111 Chemnitz
BEGIN:VALARM
ACTION:DISPLAY
DESCRIPTION:Erinnerung: Pochen Symposium: Nichts zu erben? Trotzdem flüssi
 g bleiben! beginnt in 1 Stunde
TRIGGER;RELATED=END:-PT1H
END:VALARM
END:VEVENT
END:VCALENDAR
