BEGIN:VCALENDAR
PRODID:-//eluceo/ical//2.0/EN
VERSION:2.0
CALSCALE:GREGORIAN
BEGIN:VEVENT
UID:8ea32249060368a4a1c6e12d93c68394
DTSTAMP:20260425T002242Z
SUMMARY:Theater der Welt: Vortex Nukak
DESCRIPTION:Der Amazonas\, ein Zeuge menschlicher Grausamkeiten\, wird in d
 er eindringlichen Inszenierung von Mapa Teatro lebendig\, während die Nuk
 ak\, eine der letzten nomadischen Gemeinschaften Kolumbiens\, ihr Überleb
 en und ihre Geschichte aktiv auf der Bühne gestalten.
URL:https://www.meinplaner.com
DTSTART;TZID=Europe/Amsterdam:20260704T210000
DTEND;TZID=Europe/Amsterdam:20260704T230000
LOCATION:Theaterplatz  2\, 09111 Chemnitz
BEGIN:VALARM
ACTION:DISPLAY
DESCRIPTION:Erinnerung: Theater der Welt: Vortex Nukak beginnt in 1 Stunde
TRIGGER;RELATED=END:-PT1H
END:VALARM
END:VEVENT
BEGIN:VEVENT
UID:7877a313eb46efdbff60f9cc364ee08b
DTSTAMP:20260425T002242Z
SUMMARY:Theater der Welt: Vortex Nukak
DESCRIPTION:Der Amazonas\, ein Zeuge menschlicher Grausamkeiten\, wird in d
 er eindringlichen Inszenierung von Mapa Teatro lebendig\, während die Nuk
 ak\, eine der letzten nomadischen Gemeinschaften Kolumbiens\, ihr Überleb
 en und ihre Geschichte aktiv auf der Bühne gestalten.
URL:https://www.meinplaner.com
DTSTART;TZID=Europe/Amsterdam:20260704T193000
DTEND;TZID=Europe/Amsterdam:20260704T213000
LOCATION:Theaterplatz  2\, 09111 Chemnitz
BEGIN:VALARM
ACTION:DISPLAY
DESCRIPTION:Erinnerung: Theater der Welt: Vortex Nukak beginnt in 1 Stunde
TRIGGER;RELATED=END:-PT1H
END:VALARM
END:VEVENT
BEGIN:VEVENT
UID:32445a8673f3d01c7aafdb053b3713fe
DTSTAMP:20260425T002242Z
SUMMARY:Theater der Welt: Vortex Nukak
DESCRIPTION:Der Amazonas\, ein Zeuge menschlicher Grausamkeiten\, wird in d
 er eindringlichen Inszenierung von Mapa Teatro lebendig\, während die Nuk
 ak\, eine der letzten nomadischen Gemeinschaften Kolumbiens\, ihr Überleb
 en und ihre Geschichte aktiv auf der Bühne gestalten.
URL:https://www.meinplaner.com
DTSTART;TZID=Europe/Amsterdam:20260704T180000
DTEND;TZID=Europe/Amsterdam:20260704T200000
LOCATION:Theaterplatz  2\, 09111 Chemnitz
BEGIN:VALARM
ACTION:DISPLAY
DESCRIPTION:Erinnerung: Theater der Welt: Vortex Nukak beginnt in 1 Stunde
TRIGGER;RELATED=END:-PT1H
END:VALARM
END:VEVENT
END:VCALENDAR
