BEGIN:VCALENDAR
PRODID:-//eluceo/ical//2.0/EN
VERSION:2.0
CALSCALE:GREGORIAN
BEGIN:VEVENT
UID:67691553bd311614c11e5b04a809966c
DTSTAMP:20260420T135902Z
SUMMARY:ABALANCE - The ABBA Show
DESCRIPTION:Abalance begeistert mit einer mitreißenden ABBA-Bühnenshow vo
 ller Hits wie „Waterloo“ und „Dancing Queen“.  Authentische Stimme
 n und ein filigranes musikalisches Fundament schaffen eine Show\, die unte
 r die Haut geht und alle Generationen anspricht.
URL:https://www.meinplaner.com
DTSTART;TZID=Europe/Amsterdam:20260606T200000
DTEND;TZID=Europe/Amsterdam:20260606T220000
LOCATION:Rathausplatz  3\, 09376 Oelsnitz/Erzgeb.
BEGIN:VALARM
ACTION:DISPLAY
DESCRIPTION:Erinnerung: ABALANCE - The ABBA Show beginnt in 1 Stunde
TRIGGER;RELATED=END:-PT1H
END:VALARM
END:VEVENT
END:VCALENDAR
