BEGIN:VCALENDAR
PRODID:-//eluceo/ical//2.0/EN
VERSION:2.0
CALSCALE:GREGORIAN
BEGIN:VEVENT
UID:0f664c1de22c4402ed58351fff164900
DTSTAMP:20260421T161913Z
SUMMARY:Der Astronaut - Project Hail Mary
DESCRIPTION:Ryland Grace erwacht ohne Erinnerung auf einem Raumschiff\, Lic
 htjahre von der Erde entfernt. Nach und nach erkennt er seine Mission: Ein
 e rätselhafte Substanz bedroht die Sonne und alles Leben. Mit Wissen\, Mu
 t und unerwarteter Hilfe kämpft er um das Überleben.
URL:https://www.meinplaner.com
DTSTART;TZID=Europe/Amsterdam:20260421T193000
DTEND;TZID=Europe/Amsterdam:20260421T213000
LOCATION:Poetenweg 6-8\, 08056 Zwickau
BEGIN:VALARM
ACTION:DISPLAY
DESCRIPTION:Erinnerung: Der Astronaut - Project Hail Mary beginnt in 1 Stun
 de
TRIGGER;RELATED=END:-PT1H
END:VALARM
END:VEVENT
BEGIN:VEVENT
UID:4fdd2c360a82b19c51113b6c625a70cc
DTSTAMP:20260421T161913Z
SUMMARY:Der Astronaut - Project Hail Mary
DESCRIPTION:Ryland Grace erwacht ohne Erinnerung auf einem Raumschiff\, Lic
 htjahre von der Erde entfernt. Nach und nach erkennt er seine Mission: Ein
 e rätselhafte Substanz bedroht die Sonne und alles Leben. Mit Wissen\, Mu
 t und unerwarteter Hilfe kämpft er um das Überleben.
URL:https://www.meinplaner.com
DTSTART;TZID=Europe/Amsterdam:20260421T170000
DTEND;TZID=Europe/Amsterdam:20260421T190000
LOCATION:Poetenweg 6-8\, 08056 Zwickau
BEGIN:VALARM
ACTION:DISPLAY
DESCRIPTION:Erinnerung: Der Astronaut - Project Hail Mary beginnt in 1 Stun
 de
TRIGGER;RELATED=END:-PT1H
END:VALARM
END:VEVENT
END:VCALENDAR
