BEGIN:VCALENDAR
PRODID:-//eluceo/ical//2.0/EN
VERSION:2.0
CALSCALE:GREGORIAN
BEGIN:VEVENT
UID:e82b8c3c89e46f8a5d2a67f133aa5819
DTSTAMP:20260421T071754Z
SUMMARY:Lesung Bruchzeiten
DESCRIPTION:Die Psychologin Marina Chernivsky reflektiert jüdische Erinner
 ung und Gegenwart. Im Zentrum steht der 7. Oktober 2023 als Einschnitt fü
 r die jüdische Gemeinschaft sowie Erfahrungen von Antisemitismus und gese
 llschaftlicher Kälte.
URL:https://www.meinplaner.com
DTSTART;TZID=Europe/Amsterdam:20260429T190000
DTEND;TZID=Europe/Amsterdam:20260429T210000
LOCATION:Moritzstr. 20\, 09111 Chemnitz
BEGIN:VALARM
ACTION:DISPLAY
DESCRIPTION:Erinnerung: Lesung Bruchzeiten beginnt in 1 Stunde
TRIGGER;RELATED=END:-PT1H
END:VALARM
END:VEVENT
END:VCALENDAR
