BEGIN:VCALENDAR
PRODID:-//eluceo/ical//2.0/EN
VERSION:2.0
CALSCALE:GREGORIAN
BEGIN:VEVENT
UID:8c351681c24f2431129b02707932e68c
DTSTAMP:20260419T201004Z
SUMMARY:Schmackhafte Burger ganz regional
DESCRIPTION:Das ehemalige Bahnhofsgebäude lädt im modernen und stylischen
  Ambiente zu deftigen Gerichten aus vorwiegend frischen\, regionalen Leben
 smitteln. Schmackhafte Burger sind hier eine Spezialität. Das Fleisch fü
 r die Paddys kommt von Rindern aus Drebach.
URL:https://www.meinplaner.com
DTSTART;TZID=Europe/Amsterdam:20260424T120000
DTEND;TZID=Europe/Amsterdam:20260424T230000
LOCATION:Bahnhofsstr.  45\, 09430 Drebach
BEGIN:VALARM
ACTION:DISPLAY
DESCRIPTION:Erinnerung: Schmackhafte Burger ganz regional beginnt in 1 Stun
 de
TRIGGER;RELATED=END:-PT1H
END:VALARM
END:VEVENT
END:VCALENDAR
