BEGIN:VCALENDAR
PRODID:-//eluceo/ical//2.0/EN
VERSION:2.0
CALSCALE:GREGORIAN
BEGIN:VEVENT
UID:2239f6990f10d45ee850e3717a21cc02
DTSTAMP:20260422T103025Z
SUMMARY:Die feine Nuance - Workshop
DESCRIPTION:Der Workshop verbindet Malerei mit intuitivem Arbeiten und Expe
 rimenten mit Pigmenten\, Wachs und Kreide. Schicht für Schicht entstehen 
 aus Naturstudien großformatige Bilder. Im Fokus stehen Farbnuancen\, Stru
 ktur und freies Gestalten.
URL:https://www.meinplaner.com
DTSTART;TZID=Europe/Amsterdam:20260424T133000
DTEND;TZID=Europe/Amsterdam:20260424T211500
LOCATION:Moritzstr. 20\, 09111 Chemnitz
BEGIN:VALARM
ACTION:DISPLAY
DESCRIPTION:Erinnerung: Die feine Nuance - Workshop beginnt in 1 Stunde
TRIGGER;RELATED=END:-PT1H
END:VALARM
END:VEVENT
END:VCALENDAR
