BEGIN:VCALENDAR
PRODID:-//eluceo/ical//2.0/EN
VERSION:2.0
CALSCALE:GREGORIAN
BEGIN:VEVENT
UID:6070f63f0eab26b0b64da09064b2504c
DTSTAMP:20260422T223403Z
SUMMARY:Die neue Dauerausstellung KohleWelt
DESCRIPTION:Das ist eine Reise durch die 1000-jährige Geschichte des säch
 sischen Steinkohlenbergbaus. Dabei erfährt man wie & wo die Kohle entstan
 den ist & wie die „schwarzen Diamanten“ verwendet wurden. Man lernt ne
 ue Persönlichkeiten kennen und das Anschauungsbergwerk.
URL:https://www.meinplaner.com
DTSTART;TZID=Europe/Amsterdam:20260423T100000
DTEND;TZID=Europe/Amsterdam:20260423T170000
LOCATION:Pflockenstraße  28\, 09376 Oelsnitz/Erzgeb.
BEGIN:VALARM
ACTION:DISPLAY
DESCRIPTION:Erinnerung: Die neue Dauerausstellung KohleWelt beginnt in 1 St
 unde
TRIGGER;RELATED=END:-PT1H
END:VALARM
END:VEVENT
END:VCALENDAR
