BEGIN:VCALENDAR
PRODID:-//eluceo/ical//2.0/EN
VERSION:2.0
CALSCALE:GREGORIAN
BEGIN:VEVENT
UID:edf1d71080e01b7294dccd8c3fd75e2a
DTSTAMP:20260426T005758Z
SUMMARY:Genießen und feiern auf dem  „Balkon von Chemnitz“ 
DESCRIPTION:Das haben nicht nur Chemnitzer verdient. Auch Gäste sollten si
 ch im Miramar verwöhnen lassen und den herrlichen Ausblick auf den Schlos
 steich genießen. Familienfreundlichkeit wird groß geschrieben. Die Speis
 ekarte lässt keine Wünsche offen von deftig bis süß.
URL:https://www.meinplaner.com
DTSTART;TZID=Europe/Amsterdam:20260426T110000
DTEND;TZID=Europe/Amsterdam:20260426T230000
LOCATION:Schloßberg 16\, 09113 Chemnitz
BEGIN:VALARM
ACTION:DISPLAY
DESCRIPTION:Erinnerung: Genießen und feiern auf dem  „Balkon von Chemnit
 z“  beginnt in 1 Stunde
TRIGGER;RELATED=END:-PT1H
END:VALARM
END:VEVENT
END:VCALENDAR
