BEGIN:VCALENDAR
PRODID:-//eluceo/ical//2.0/EN
VERSION:2.0
CALSCALE:GREGORIAN
BEGIN:VEVENT
UID:d976d3c879b9d87cc41a47deccc5e3a0
DTSTAMP:20260421T215854Z
SUMMARY:800 Grad für das perfekte Steak
DESCRIPTION:Dienstag ist nicht alle Tage. Und im Brazil ist es sogar ein ga
 nz besonderer Tag für Steakfreunde! 800 Grad Celsius für das perfekte St
 eak\, 300 Gramm bestellen und nur 240 Gramm bezahlen. Das gilt für alle S
 teaks aus der Speisekarte.\n
URL:https://www.meinplaner.com
DTSTART;TZID=Europe/Amsterdam:20260421T110000
DTEND;TZID=Europe/Amsterdam:20260421T230000
LOCATION:Innere Klosterstr. 10\, 09111 Chemnitz
BEGIN:VALARM
ACTION:DISPLAY
DESCRIPTION:Erinnerung: 800 Grad für das perfekte Steak beginnt in 1 Stund
 e
TRIGGER;RELATED=END:-PT1H
END:VALARM
END:VEVENT
END:VCALENDAR
