BEGIN:VCALENDAR
PRODID:-//eluceo/ical//2.0/EN
VERSION:2.0
CALSCALE:GREGORIAN
BEGIN:VEVENT
UID:cac0138411cb69d7a145b23bee164116
DTSTAMP:20260425T201710Z
SUMMARY:Das Frühmittelalter zu Gast auf Schloss Rochlitz
DESCRIPTION:Die Gäste erleben hautnah das Leben vor 1100 Jahren mit Schauk
 ochen\, Handwerk\, Kämpfen\, Brettspielen und einer Rüstkammer – Gesch
 ichte zum Anfassen für Groß und Klein!
URL:https://www.meinplaner.com
DTSTART;TZID=Europe/Amsterdam:20260426T100000
DTEND;TZID=Europe/Amsterdam:20260426T180000
LOCATION:Sörnziger Weg 1\, 09306 Rochlitz
BEGIN:VALARM
ACTION:DISPLAY
DESCRIPTION:Erinnerung: Das Frühmittelalter zu Gast auf Schloss Rochlitz b
 eginnt in 1 Stunde
TRIGGER;RELATED=END:-PT1H
END:VALARM
END:VEVENT
END:VCALENDAR
