BEGIN:VCALENDAR
PRODID:-//eluceo/ical//2.0/EN
VERSION:2.0
CALSCALE:GREGORIAN
BEGIN:VEVENT
UID:15f91cba57d8bf1c9a4c2e32d847001b
DTSTAMP:20260420T150032Z
SUMMARY:Die drei Tage des Condor
DESCRIPTION:In diesem Film entdeckt CIA-Agent Joe Turner ein Massaker in se
 inem Büro. Nach einem gescheiterten Anschlag taucht er unter und sucht Zu
 flucht bei Fotografin Kathy Hale. Entschlossen\, das Komplott aufzudecken\
 , kämpft er gegen einen mächtigen Apparat.
URL:https://www.meinplaner.com
DTSTART;TZID=Europe/Amsterdam:20260505T201500
DTEND;TZID=Europe/Amsterdam:20260505T221500
LOCATION:Hartensteiner Str. 11\, 08289 Schneeberg
BEGIN:VALARM
ACTION:DISPLAY
DESCRIPTION:Erinnerung: Die drei Tage des Condor beginnt in 1 Stunde
TRIGGER;RELATED=END:-PT1H
END:VALARM
END:VEVENT
END:VCALENDAR
