BEGIN:VCALENDAR
PRODID:-//eluceo/ical//2.0/EN
VERSION:2.0
CALSCALE:GREGORIAN
BEGIN:VEVENT
UID:00a2df189f91a39cf141bc58bbafc179
DTSTAMP:20260420T021251Z
SUMMARY:Rami Hattab: Halt's Maul und tanz! Tour 2026
DESCRIPTION:Mit „Goldener Handschuh“ feierte Rami Hattab seinen Durchbr
 uch: Millionen Streams auf Spotify & YouTube machten ihn bekannt. Doch liv
 e entfaltet er wahre Magie – mitreißend\, authentisch\, emotional. Ein 
 Künstler\, der Herzen berührt und Fans in ganz Deutschland
URL:https://www.meinplaner.com
DTSTART;TZID=Europe/Amsterdam:20260425T200000
DTEND;TZID=Europe/Amsterdam:20260425T220000
LOCATION:Neumarkt 2\, 09111 Chemnitz
BEGIN:VALARM
ACTION:DISPLAY
DESCRIPTION:Erinnerung: Rami Hattab: Halt's Maul und tanz! Tour 2026 beginn
 t in 1 Stunde
TRIGGER;RELATED=END:-PT1H
END:VALARM
END:VEVENT
END:VCALENDAR
