BEGIN:VCALENDAR
PRODID:-//eluceo/ical//2.0/EN
VERSION:2.0
CALSCALE:GREGORIAN
BEGIN:VEVENT
UID:468f0395458cf12cea0142665c2fcdae
DTSTAMP:20260423T183929Z
SUMMARY:Vom Warmbader Thermalwasser
DESCRIPTION:... zu den Sehenswürdigkeiten des Erzgebirges"\, so heißt ein
 e faszinierende Multimedia-Präsentation von Rüdiger Feustel. Ein Vortrag
  über die Geschichte und Schönheit der Region\, begleitet von beeindruck
 enden Bildern und spannenden Informationen.
URL:https://www.meinplaner.com
DTSTART;TZID=Europe/Amsterdam:20260508T193000
DTEND;TZID=Europe/Amsterdam:20260508T213000
LOCATION:An der Silber-Therme 1\, 09429 Wolkenstein
BEGIN:VALARM
ACTION:DISPLAY
DESCRIPTION:Erinnerung: Vom Warmbader Thermalwasser beginnt in 1 Stunde
TRIGGER;RELATED=END:-PT1H
END:VALARM
END:VEVENT
END:VCALENDAR
