BEGIN:VCALENDAR
PRODID:-//eluceo/ical//2.0/EN
VERSION:2.0
CALSCALE:GREGORIAN
BEGIN:VEVENT
UID:6e81171d54df8d1f4adba608107b1995
DTSTAMP:20260424T220534Z
SUMMARY:Normal
DESCRIPTION:Aushilfssheriff Ulysses\, auf der Flucht vor seinen eigenen Dä
 monen\, übernimmt in einer scheinbar ruhigen Kleinstadt die Sheriff-Posit
 ion. Doch als die Bank überfallen wird\, offenbart sich eine dunkle Versc
 hwörung\, in die die gesamte Gemeinde verwickelt ist.
URL:https://www.meinplaner.com
DTSTART;TZID=Europe/Amsterdam:20260424T224500
DTEND;TZID=Europe/Amsterdam:20260424T004500
LOCATION:Poetenweg 6-8\, 08056 Zwickau
BEGIN:VALARM
ACTION:DISPLAY
DESCRIPTION:Erinnerung: Normal beginnt in 1 Stunde
TRIGGER;RELATED=END:-PT1H
END:VALARM
END:VEVENT
BEGIN:VEVENT
UID:4fef3b2d0530c93f1668af68d0f4a986
DTSTAMP:20260424T220534Z
SUMMARY:Normal
DESCRIPTION:Aushilfssheriff Ulysses\, auf der Flucht vor seinen eigenen Dä
 monen\, übernimmt in einer scheinbar ruhigen Kleinstadt die Sheriff-Posit
 ion. Doch als die Bank überfallen wird\, offenbart sich eine dunkle Versc
 hwörung\, in die die gesamte Gemeinde verwickelt ist.
URL:https://www.meinplaner.com
DTSTART;TZID=Europe/Amsterdam:20260424T201500
DTEND;TZID=Europe/Amsterdam:20260424T221500
LOCATION:Poetenweg 6-8\, 08056 Zwickau
BEGIN:VALARM
ACTION:DISPLAY
DESCRIPTION:Erinnerung: Normal beginnt in 1 Stunde
TRIGGER;RELATED=END:-PT1H
END:VALARM
END:VEVENT
END:VCALENDAR
