BEGIN:VCALENDAR
PRODID:-//eluceo/ical//2.0/EN
VERSION:2.0
CALSCALE:GREGORIAN
BEGIN:VEVENT
UID:b61a23cb7b251e4d24c8403f1db43e29
DTSTAMP:20260423T115435Z
SUMMARY:Ewilpa®-Führung
DESCRIPTION:Ein fachkundiger Spaziergang durch den Essbaren Wildpflanzenpar
 k mit Katrin Dechant. Essbare Kräuter\, Sträucher und Bäume entdecken\,
  ihre Verwendung kennenlernen und zum Abschluss eine kleine Köstlichkeit 
 genießen.
URL:https://www.meinplaner.com
DTSTART;TZID=Europe/Amsterdam:20260426T140000
DTEND;TZID=Europe/Amsterdam:20260426T160000
LOCATION:Gerichtsstr. \, 09569 Oederan
BEGIN:VALARM
ACTION:DISPLAY
DESCRIPTION:Erinnerung: Ewilpa®-Führung beginnt in 1 Stunde
TRIGGER;RELATED=END:-PT1H
END:VALARM
END:VEVENT
END:VCALENDAR
