BEGIN:VCALENDAR
PRODID:-//eluceo/ical//2.0/EN
VERSION:2.0
CALSCALE:GREGORIAN
BEGIN:VEVENT
UID:09de120c43a49fe67ce3de0a02aa47ea
DTSTAMP:20260425T231035Z
SUMMARY:Kegel-Tradition mit modernster Technik 
DESCRIPTION:Die vollständig renovierte Kegelarena „9Pins“ hat sich der
  Kegel-Tradition angenommen. Gekegelt wird auf einer geräumigen Vierbahnk
 egelanlage. Durch Spielstandanzeigen über den Kegeln & auf Monitoren wird
  Spielern & Publikum modernste Technik geboten.
URL:https://www.meinplaner.com
DTSTART;TZID=Europe/Amsterdam:20260426T090000
DTEND;TZID=Europe/Amsterdam:20260426T200000
LOCATION:Bergstraße 4\, 09366 Stollberg/Erzgeb.
BEGIN:VALARM
ACTION:DISPLAY
DESCRIPTION:Erinnerung: Kegel-Tradition mit modernster Technik  beginnt in 
 1 Stunde
TRIGGER;RELATED=END:-PT1H
END:VALARM
END:VEVENT
END:VCALENDAR
