BEGIN:VCALENDAR
PRODID:-//eluceo/ical//2.0/EN
VERSION:2.0
CALSCALE:GREGORIAN
BEGIN:VEVENT
UID:ab9c903b41e9511e53f1ec8209e4d068
DTSTAMP:20260423T081814Z
SUMMARY:Aktionstag 20 Jahre Sonnenlandpark
DESCRIPTION:Ein ganzes Jahr wird gefeiert: Zum 20. Geburtstag gibt es an je
 dem 20. des Monats attraktive Rabatte auf den Eintritt. Ein besonderes Dan
 keschön für viele Jahre voller Erlebnisse\, Spaß und unvergesslicher Mo
 mente für die ganze Familie.
URL:https://www.meinplaner.com
DTSTART;TZID=Europe/Amsterdam:20260520T100000
DTEND;TZID=Europe/Amsterdam:20260520T180000
LOCATION:Zum Sonnenlandpark 1\, 09244 Lichtenau
BEGIN:VALARM
ACTION:DISPLAY
DESCRIPTION:Erinnerung: Aktionstag 20 Jahre Sonnenlandpark beginnt in 1 Stu
 nde
TRIGGER;RELATED=END:-PT1H
END:VALARM
END:VEVENT
END:VCALENDAR
