BEGIN:VCALENDAR
PRODID:-//eluceo/ical//2.0/EN
VERSION:2.0
CALSCALE:GREGORIAN
BEGIN:VEVENT
UID:cc402e78f3a8d2c488077a10082d1d95
DTSTAMP:20260420T195806Z
SUMMARY:Historische Tasteninstrumente
DESCRIPTION:Die Sammlung originaler Tasteninstrumente lädt zur Begegnung m
 it der Klangwelt des 19. Jahrhunderts ein. Prunkstücke sind der Wiener Fl
 ügel von André Stein\, auf dem Clara Schumann neunjährig ihr Konzertdeb
 üt im Leip­ziger Gewandhaus gab\, und ein Pedalflügel. 
URL:https://www.meinplaner.com
DTSTART;TZID=Europe/Amsterdam:20260421T100000
DTEND;TZID=Europe/Amsterdam:20260421T170000
LOCATION:Hauptmarkt 5\, 08056 Zwickau
BEGIN:VALARM
ACTION:DISPLAY
DESCRIPTION:Erinnerung: Historische Tasteninstrumente beginnt in 1 Stunde
TRIGGER;RELATED=END:-PT1H
END:VALARM
END:VEVENT
END:VCALENDAR
