BEGIN:VCALENDAR
PRODID:-//eluceo/ical//2.0/EN
VERSION:2.0
CALSCALE:GREGORIAN
BEGIN:VEVENT
UID:3dc88ba197cc5ba7147154933207d7aa
DTSTAMP:20260425T002226Z
SUMMARY:Heute Hü und morgen Hott
DESCRIPTION:Gestern gab es noch zu viele Lehrer\, heute Lehrermangel. Geste
 rn Jamaika\, heute Groko. Ellen Schaller und Torsten Pahl bieten dem Publi
 kum bei ihrem rasanten Abend voller Ironie\, Musik und Magie endlich den e
 rsehnten Durchblick für alle Lebenslagen.
URL:https://www.meinplaner.com
DTSTART;TZID=Europe/Amsterdam:20260506T200000
DTEND;TZID=Europe/Amsterdam:20260506T220000
LOCATION:An der Markthalle 1 -3\, 09111 Chemnitz
BEGIN:VALARM
ACTION:DISPLAY
DESCRIPTION:Erinnerung: Heute Hü und morgen Hott beginnt in 1 Stunde
TRIGGER;RELATED=END:-PT1H
END:VALARM
END:VEVENT
END:VCALENDAR
