BEGIN:VCALENDAR
PRODID:-//eluceo/ical//2.0/EN
VERSION:2.0
CALSCALE:GREGORIAN
BEGIN:VEVENT
UID:b50f73d9dff2f8e5c211bb70d58ac9a9
DTSTAMP:20260423T155946Z
SUMMARY:Viele Wege Festival 2026
DESCRIPTION:Ein buntes Kulturfestival im Herzen der Stadt: Mit Lesungen\, T
 heater\, Musik und Kreativangeboten entsteht ein vielfältiges Programm f
 ür alle Generationen. Ein Tag zum Entdecken\, Mitmachen und Verweilen in 
 besonderer Atmosphäre.
URL:https://www.meinplaner.com
DTSTART;TZID=Europe/Amsterdam:20260530T140000
DTEND;TZID=Europe/Amsterdam:20260530T220000
LOCATION:Domhof 10\, 08056 Zwickau
BEGIN:VALARM
ACTION:DISPLAY
DESCRIPTION:Erinnerung: Viele Wege Festival 2026 beginnt in 1 Stunde
TRIGGER;RELATED=END:-PT1H
END:VALARM
END:VEVENT
END:VCALENDAR
