BEGIN:VCALENDAR
PRODID:-//eluceo/ical//2.0/EN
VERSION:2.0
CALSCALE:GREGORIAN
BEGIN:VEVENT
UID:b3991cf3b844885909fb6081475dc5ea
DTSTAMP:20260425T234303Z
SUMMARY:Wohnzimmer-Musikbar mit Biergarten im Grünen
DESCRIPTION:Zu Besuch im "öffentlichen Wohnzimmer" einen Steinwurf von der
  City entfernt! Wie beim angenehmen Nachbarn\, aber doch eine Bar. Ein Get
 ränk zum Feierabend. Etwas Musik. Seele und Gedanken baumeln lassen und d
 as „ein bisschen anders also woanders“ genießen.
URL:https://www.meinplaner.com
DTSTART;TZID=Europe/Amsterdam:20260428T180000
DTEND;TZID=Europe/Amsterdam:20260429T000000
LOCATION:Hohe Str. 33\, 09112 Chemnitz
BEGIN:VALARM
ACTION:DISPLAY
DESCRIPTION:Erinnerung: Wohnzimmer-Musikbar mit Biergarten im Grünen begin
 nt in 1 Stunde
TRIGGER;RELATED=END:-PT1H
END:VALARM
END:VEVENT
END:VCALENDAR
