BEGIN:VCALENDAR
PRODID:-//eluceo/ical//2.0/EN
VERSION:2.0
CALSCALE:GREGORIAN
BEGIN:VEVENT
UID:b2fe7cbceeabab4564bdef58770b16d5
DTSTAMP:20260420T154236Z
SUMMARY:Gut bürgerliche Küche wie sonntags bei Muttern
DESCRIPTION:Die angenehme Gaststätte\, freundlich gestaltet\, wird in 4. G
 eneration geführt. Hier gibt es keinen „Schnickschnack“\, sondern gut
  bürgerliche Küche. Einen deftigen Gulasch\, eine Roulade oder Schnitzel
  – so\, wie sonntags früher zu Hause. Erinnerungen leben auf!
URL:https://www.meinplaner.com
DTSTART;TZID=Europe/Amsterdam:20260421T170000
DTEND;TZID=Europe/Amsterdam:20260421T220000
LOCATION:Weinkellerstr. 38\, 09337 Hohenstein-Ernstthal
BEGIN:VALARM
ACTION:DISPLAY
DESCRIPTION:Erinnerung: Gut bürgerliche Küche wie sonntags bei Muttern be
 ginnt in 1 Stunde
TRIGGER;RELATED=END:-PT1H
END:VALARM
END:VEVENT
BEGIN:VEVENT
UID:f81b052f9945ddd6fd3ff477619f28bd
DTSTAMP:20260420T154236Z
SUMMARY:Gut bürgerliche Küche wie sonntags bei Muttern
DESCRIPTION:Die angenehme Gaststätte\, freundlich gestaltet\, wird in 4. G
 eneration geführt. Hier gibt es keinen „Schnickschnack“\, sondern gut
  bürgerliche Küche. Einen deftigen Gulasch\, eine Roulade oder Schnitzel
  – so\, wie sonntags früher zu Hause. Erinnerungen leben auf!
URL:https://www.meinplaner.com
DTSTART;TZID=Europe/Amsterdam:20260421T110000
DTEND;TZID=Europe/Amsterdam:20260421T140000
LOCATION:Weinkellerstr. 38\, 09337 Hohenstein-Ernstthal
BEGIN:VALARM
ACTION:DISPLAY
DESCRIPTION:Erinnerung: Gut bürgerliche Küche wie sonntags bei Muttern be
 ginnt in 1 Stunde
TRIGGER;RELATED=END:-PT1H
END:VALARM
END:VEVENT
END:VCALENDAR
