BEGIN:VCALENDAR
PRODID:-//eluceo/ical//2.0/EN
VERSION:2.0
CALSCALE:GREGORIAN
BEGIN:VEVENT
UID:2a871297b26cfb415e12625ce6146960
DTSTAMP:20260423T063403Z
SUMMARY:Kreativangebot Keramik
DESCRIPTION:Im Kreativangebot Keramik können persönliche Lieblingsstücke
  gestaltet werden: In der ersten Woche werden die Gegenstände geformt\, i
 n der zweiten Woche erfolgt die Bemalung.
URL:https://www.meinplaner.com
DTSTART;TZID=Europe/Amsterdam:20260601T190000
DTEND;TZID=Europe/Amsterdam:20260601T210000
LOCATION:Freiberger Str. 33\, 09488 Thermalbad Wiesenbad
BEGIN:VALARM
ACTION:DISPLAY
DESCRIPTION:Erinnerung: Kreativangebot Keramik beginnt in 1 Stunde
TRIGGER;RELATED=END:-PT1H
END:VALARM
END:VEVENT
END:VCALENDAR
