BEGIN:VCALENDAR
PRODID:-//eluceo/ical//2.0/EN
VERSION:2.0
CALSCALE:GREGORIAN
BEGIN:VEVENT
UID:c12e9051b7d4ce47c347abcc3c51f863
DTSTAMP:20260426T010948Z
SUMMARY:Mittagspause am Beach
DESCRIPTION:Frisch gekochte\, wechselnde Mittagsgerichte sorgen für genuss
 volle Pausen vom Alltag. In entspannter Beach-Atmosphäre entsteht ein unk
 ompliziertes Angebot für eine kleine Auszeit – auch zum Mitnehmen. 🍽
 ️🌊
URL:https://www.meinplaner.com
DTSTART;TZID=Europe/Amsterdam:20260430T113000
DTEND;TZID=Europe/Amsterdam:20260430T133000
LOCATION:Hartensteiner Str.  3a\, 09366 Stollberg/Erzgeb.
BEGIN:VALARM
ACTION:DISPLAY
DESCRIPTION:Erinnerung: Mittagspause am Beach beginnt in 1 Stunde
TRIGGER;RELATED=END:-PT1H
END:VALARM
END:VEVENT
END:VCALENDAR
