BEGIN:VCALENDAR
PRODID:-//eluceo/ical//2.0/EN
VERSION:2.0
CALSCALE:GREGORIAN
BEGIN:VEVENT
UID:e6c4d91f88b9ae215cef8e9b2a0188c6
DTSTAMP:20260420T174358Z
SUMMARY:Freitagstresen
DESCRIPTION:Zum wöchentlichen Freitagstresen gibt es verschiedene Formen v
 on Inputs\, seien es Vorträge\, Filme oder Tanzabende. So auch Veranstalt
 ungen mit der Feministischen Antifaschistischen Jugendaktion\, Aufstehen g
 egen Rassismus\, Different People e.V. & der Queerbar.
URL:https://www.meinplaner.com
DTSTART;TZID=Europe/Amsterdam:20260424T190000
DTEND;TZID=Europe/Amsterdam:20260424T210000
LOCATION:Vettersstr. 34a\, 09126 Chemnitz
BEGIN:VALARM
ACTION:DISPLAY
DESCRIPTION:Erinnerung: Freitagstresen beginnt in 1 Stunde
TRIGGER;RELATED=END:-PT1H
END:VALARM
END:VEVENT
END:VCALENDAR
