BEGIN:VCALENDAR
PRODID:-//eluceo/ical//2.0/EN
VERSION:2.0
CALSCALE:GREGORIAN
BEGIN:VEVENT
UID:9a6de382a1a7d7e2280cc0ad064173c1
DTSTAMP:20260419T163417Z
SUMMARY:Schnitzel-Tag
DESCRIPTION:Schnitzel-Tage im Café Milchhäuschen! Montag und Dienstag ste
 hen ganz im Zeichen knuspriger Schnitzel in vielfältigen Variationen\, fr
 isch aus der Pfanne mit köstlichen Beilagen und Salat – ein Genuss für
  Liebhaber herzhafter Küche.
URL:https://www.meinplaner.com
DTSTART;TZID=Europe/Amsterdam:20260420T110000
DTEND;TZID=Europe/Amsterdam:20260420T210000
LOCATION:Schlossteichstr. 20\, 09113 Chemnitz
BEGIN:VALARM
ACTION:DISPLAY
DESCRIPTION:Erinnerung: Schnitzel-Tag beginnt in 1 Stunde
TRIGGER;RELATED=END:-PT1H
END:VALARM
END:VEVENT
END:VCALENDAR
