BEGIN:VCALENDAR
PRODID:-//eluceo/ical//2.0/EN
VERSION:2.0
CALSCALE:GREGORIAN
BEGIN:VEVENT
UID:b7a54eabc0863bb472b5036df6a1aae5
DTSTAMP:20260423T174835Z
SUMMARY:Badespaß für alle – Sommervergnügen im Freibad Jahnsdorf
DESCRIPTION:Das 2013 sanierte Bad in Jahnsdorf bietet alles für einen gelu
 ngenen Sommertag: Rutschenanlage\, Sprungturm\, Babybecken\, Spielecke\, G
 rillplatz\, kostenloses WLAN und mehr – perfekt für Familien\, Freunde 
 und alle\, die Abkühlung und Spaß suchen.
URL:https://www.meinplaner.com
DTSTART;TZID=Europe/Amsterdam:20260515T110000
DTEND;TZID=Europe/Amsterdam:20260515T200000
LOCATION:Am Sonnenberg 1a\, 09387 Jahnsdorf/Erzgeb.
BEGIN:VALARM
ACTION:DISPLAY
DESCRIPTION:Erinnerung: Badespaß für alle – Sommervergnügen im Freibad
  Jahnsdorf beginnt in 1 Stunde
TRIGGER;RELATED=END:-PT1H
END:VALARM
END:VEVENT
END:VCALENDAR
