BEGIN:VCALENDAR
PRODID:-//eluceo/ical//2.0/EN
VERSION:2.0
CALSCALE:GREGORIAN
BEGIN:VEVENT
UID:7aedda90634f29d21fb05bd879a8b5f2
DTSTAMP:20260422T153952Z
SUMMARY:30. Stollberger Stadtlauf
DESCRIPTION:Rund um den Walkteich wird es sportlich: Beim Stadtlauf sind Gr
 oß und Klein eingeladen\, aktiv dabei zu sein oder die Läuferinnen und L
 äufer vom Rand aus anzufeuern. Ein Tag voller Bewegung\, Spaß und Gemein
 schaft.
URL:https://www.meinplaner.com
DTSTART;TZID=Europe/Amsterdam:20260501T090000
DTEND;TZID=Europe/Amsterdam:20260501T110000
LOCATION:Hartensteiner Str. 5\, 09366 Stollberg/Erzgeb.
BEGIN:VALARM
ACTION:DISPLAY
DESCRIPTION:Erinnerung: 30. Stollberger Stadtlauf beginnt in 1 Stunde
TRIGGER;RELATED=END:-PT1H
END:VALARM
END:VEVENT
END:VCALENDAR
