BEGIN:VCALENDAR
PRODID:-//eluceo/ical//2.0/EN
VERSION:2.0
CALSCALE:GREGORIAN
BEGIN:VEVENT
UID:7b2e57fe86f6e3810eac853a5cf39eaa
DTSTAMP:20260425T001958Z
SUMMARY:Elsterglanz
DESCRIPTION:Das legendäre Komiker-Duo Elsterglanz\, bestehend aus Gilbert 
 Rödiger und Sven Wittek\, begeistert mit ihrem neuen Bühnenprogramm „R
 eturn of the Apocalyptic Kuchenbasar“\, das mit Wortwitz\, Ironie und ab
 surden Alltagsszenen in die Welt der Komik entführt.
URL:https://www.meinplaner.com
DTSTART;TZID=Europe/Amsterdam:20260502T200000
DTEND;TZID=Europe/Amsterdam:20260502T223000
LOCATION:Theaterstr. 3\, 09111 Chemnitz
BEGIN:VALARM
ACTION:DISPLAY
DESCRIPTION:Erinnerung: Elsterglanz beginnt in 1 Stunde
TRIGGER;RELATED=END:-PT1H
END:VALARM
END:VEVENT
END:VCALENDAR
