BEGIN:VCALENDAR
PRODID:-//eluceo/ical//2.0/EN
VERSION:2.0
CALSCALE:GREGORIAN
BEGIN:VEVENT
UID:ab77ea8c7668ad78d9def54653e2963c
DTSTAMP:20260423T183546Z
SUMMARY:Die Jagd nach Dunkler Materie
DESCRIPTION:Rund ein Viertel des gesamten Universums besteht aus einer gehe
 imnisvollen dunklen Materie. Doch bisher weiß niemand\, woraus sie besteh
 t. Ein Vortrag über Forscher und ihre Beobachtungen\, die tief ins All un
 d zu Experimenten\, die tief unter die Erde führen.
URL:https://www.meinplaner.com
DTSTART;TZID=Europe/Amsterdam:20260503T140000
DTEND;TZID=Europe/Amsterdam:20260503T160000
LOCATION:Milchstr. 1\, 09430 Drebach
BEGIN:VALARM
ACTION:DISPLAY
DESCRIPTION:Erinnerung: Die Jagd nach Dunkler Materie beginnt in 1 Stunde
TRIGGER;RELATED=END:-PT1H
END:VALARM
END:VEVENT
END:VCALENDAR
