BEGIN:VCALENDAR
PRODID:-//eluceo/ical//2.0/EN
VERSION:2.0
CALSCALE:GREGORIAN
BEGIN:VEVENT
UID:bd340bb8e26e7c4d3c5d35b2b05a31b1
DTSTAMP:20260422T001549Z
SUMMARY:Von hier aus ins herrliche Sternmühlental
DESCRIPTION:Im herrlichen Sternmühlental am Rande von Chemnitz werden die 
 Gäste von einer freundlichen Familienatmosphäre empfangen. Im historisch
 en Gebäude oder im grünen Garten schmeckt die regional gehaltene Küche 
 mit saisonalen Zutaten. 
URL:https://www.meinplaner.com
DTSTART;TZID=Europe/Amsterdam:20260422T170000
DTEND;TZID=Europe/Amsterdam:20260422T220000
LOCATION:Ferdinandstr. 105\, 09128 Chemnitz
BEGIN:VALARM
ACTION:DISPLAY
DESCRIPTION:Erinnerung: Von hier aus ins herrliche Sternmühlental beginnt 
 in 1 Stunde
TRIGGER;RELATED=END:-PT1H
END:VALARM
END:VEVENT
END:VCALENDAR
