BEGIN:VCALENDAR
PRODID:-//eluceo/ical//2.0/EN
VERSION:2.0
CALSCALE:GREGORIAN
BEGIN:VEVENT
UID:9ba79828463945edd7cb1e551de52db7
DTSTAMP:20260419T153302Z
SUMMARY:Das Sams kehrt zurück
DESCRIPTION:Der schüchterne Herr Taschenbier erlebt ein turbulentes Abente
 uer\, als das freche Sams in sein Leben tritt. Mit Witz\, Mut und unkonven
 tionellen Ideen bringt es frischen Wind in seinen Alltag und lehrt ihn\, S
 elbstvertrauen und Lebensfreude zu entdecken.
URL:https://www.meinplaner.com
DTSTART;TZID=Europe/Amsterdam:20260531T150000
DTEND;TZID=Europe/Amsterdam:20260531T170000
LOCATION:Schlosspl. 4\, 09599 Freiberg
BEGIN:VALARM
ACTION:DISPLAY
DESCRIPTION:Erinnerung: Das Sams kehrt zurück beginnt in 1 Stunde
TRIGGER;RELATED=END:-PT1H
END:VALARM
END:VEVENT
END:VCALENDAR
