BEGIN:VCALENDAR
PRODID:-//eluceo/ical//2.0/EN
VERSION:2.0
CALSCALE:GREGORIAN
BEGIN:VEVENT
UID:2a8c7bf438430928a9b1c8d0a7e655e4
DTSTAMP:20260425T011814Z
SUMMARY:So schmeckt Italien
DESCRIPTION:Rustikale Gemütlichkeit macht die typisch italienische Mischun
 g aus Pizzeria und Ristorante zum beliebten Treffpunkt. Chefkoch Pietro ve
 rwöhnt seine Gäste gern mit leckeren Gerichten\, Pizza und Pasta\, im So
 mmer auch im Biergarten. 
URL:https://www.meinplaner.com
DTSTART;TZID=Europe/Amsterdam:20260425T113000
DTEND;TZID=Europe/Amsterdam:20260425T140000
LOCATION:Annaberger Str. 437\, 09125 Chemnitz
BEGIN:VALARM
ACTION:DISPLAY
DESCRIPTION:Erinnerung: So schmeckt Italien beginnt in 1 Stunde
TRIGGER;RELATED=END:-PT1H
END:VALARM
END:VEVENT
BEGIN:VEVENT
UID:0c89e15e5463e08e73e025e4cb9fb707
DTSTAMP:20260425T011814Z
SUMMARY:So schmeckt Italien
DESCRIPTION:Rustikale Gemütlichkeit macht die typisch italienische Mischun
 g aus Pizzeria und Ristorante zum beliebten Treffpunkt. Chefkoch Pietro ve
 rwöhnt seine Gäste gern mit leckeren Gerichten\, Pizza und Pasta\, im So
 mmer auch im Biergarten. 
URL:https://www.meinplaner.com
DTSTART;TZID=Europe/Amsterdam:20260425T170000
DTEND;TZID=Europe/Amsterdam:20260426T000000
LOCATION:Annaberger Str. 437\, 09125 Chemnitz
BEGIN:VALARM
ACTION:DISPLAY
DESCRIPTION:Erinnerung: So schmeckt Italien beginnt in 1 Stunde
TRIGGER;RELATED=END:-PT1H
END:VALARM
END:VEVENT
END:VCALENDAR
