BEGIN:VCALENDAR
PRODID:-//eluceo/ical//2.0/EN
VERSION:2.0
CALSCALE:GREGORIAN
BEGIN:VEVENT
UID:1aad75d0bf399b4e8dc691f114ee5280
DTSTAMP:20260421T053340Z
SUMMARY:MARTY SUPREME
DESCRIPTION:Marty\, ein Schuhverkäufer mit großen Träumen\, glaubt fest 
 daran\, ein Tischtennis-Weltmeister zu werden. Nach einem harten Wettkampf
  in London gegen Koto Endo muss er sich der Realität stellen. Doch aufgeb
 en kommt nicht in Frage. 
URL:https://www.meinplaner.com
DTSTART;TZID=Europe/Amsterdam:20260421T203000
DTEND;TZID=Europe/Amsterdam:20260421T223000
LOCATION:Reichenhainer Str. 35 -37\, 09126 Chemnitz
BEGIN:VALARM
ACTION:DISPLAY
DESCRIPTION:Erinnerung: MARTY SUPREME beginnt in 1 Stunde
TRIGGER;RELATED=END:-PT1H
END:VALARM
END:VEVENT
END:VCALENDAR
