BEGIN:VCALENDAR
PRODID:-//eluceo/ical//2.0/EN
VERSION:2.0
CALSCALE:GREGORIAN
BEGIN:VEVENT
UID:2e0f3eb1be1e6e67a8474eb0228b03d5
DTSTAMP:20260419T200911Z
SUMMARY:Und abends in die Bar
DESCRIPTION:Eine bunte Auswahl an leckeren Drinks\, golden schimmernden Whi
 skeys\, frisch zubereiteten Limonaden und appetitlichen alkoholfreien Drin
 ks zum Tagesabschluss finden Gäste hier. Im stylischen Ambiente kann man 
 den Abend in lockerer Atmosphäre genießen.
URL:https://www.meinplaner.com
DTSTART;TZID=Europe/Amsterdam:20260424T120000
DTEND;TZID=Europe/Amsterdam:20260424T230000
LOCATION:Bahnhofsstr.  45\, 09430 Drebach
BEGIN:VALARM
ACTION:DISPLAY
DESCRIPTION:Erinnerung: Und abends in die Bar beginnt in 1 Stunde
TRIGGER;RELATED=END:-PT1H
END:VALARM
END:VEVENT
END:VCALENDAR
