BEGIN:VCALENDAR
PRODID:-//eluceo/ical//2.0/EN
VERSION:2.0
CALSCALE:GREGORIAN
BEGIN:VEVENT
UID:0a3ce877ba394802315cab73bbbbe454
DTSTAMP:20260421T205747Z
SUMMARY:Genussvolles im Schneiderlein
DESCRIPTION:Sonntags gibt es im „Schneiderlein“ Mittagstisch mit Sonnta
 gsklassikern wie Roulade\, aber auch Fisch und Nudeln. Regelmäßig wird i
 n dieses ungewöhnliche und gemütliche Ambiente auch zu Brunch eingeladen
 . Hier sollte man vorbestellen!  
URL:https://www.meinplaner.com
DTSTART;TZID=Europe/Amsterdam:20260422T170000
DTEND;TZID=Europe/Amsterdam:20260422T210000
LOCATION:Oberer Gutsweg 17c\, 09212 Limbach-Oberfrohna
BEGIN:VALARM
ACTION:DISPLAY
DESCRIPTION:Erinnerung: Genussvolles im Schneiderlein beginnt in 1 Stunde
TRIGGER;RELATED=END:-PT1H
END:VALARM
END:VEVENT
END:VCALENDAR
