BEGIN:VCALENDAR
PRODID:-//eluceo/ical//2.0/EN
VERSION:2.0
CALSCALE:GREGORIAN
BEGIN:VEVENT
UID:66d107199923e115bbc5f55cbad1aa35
DTSTAMP:20260420T013732Z
SUMMARY:Erlebnisraum Museum
DESCRIPTION:Kinder und Jugendliche entwickelten Spiele\, Trickfilme und Aud
 iobeiträge und erweckten Ursaurier\, Skorpione und Riesenlibellen für di
 e Erlebnisebene der neuen Dauerausstellung zum Leben. An interaktiven Stat
 ionen kann entdeckt und gespielt werden.
URL:https://www.meinplaner.com
DTSTART;TZID=Europe/Amsterdam:20260420T090000
DTEND;TZID=Europe/Amsterdam:20260420T170000
LOCATION:Moritzstr. 20\, 09111 Chemnitz
BEGIN:VALARM
ACTION:DISPLAY
DESCRIPTION:Erinnerung: Erlebnisraum Museum beginnt in 1 Stunde
TRIGGER;RELATED=END:-PT1H
END:VALARM
END:VEVENT
END:VCALENDAR
