BEGIN:VCALENDAR
PRODID:-//eluceo/ical//2.0/EN
VERSION:2.0
CALSCALE:GREGORIAN
BEGIN:VEVENT
UID:2a4f5ead5cb7210891cb977f0a4970fb
DTSTAMP:20260419T164306Z
SUMMARY:Cocktail & Paint in der Lumipöllö Lounge
DESCRIPTION:Kreativ werden in entspannter Atmosphäre: Beim Cocktail & Pain
 t steht der Spaß am Malen im Mittelpunkt – ganz ohne Druck. Dazu werden
  ausgewählte Cocktails und leckeres Fingerfood serviert. Ideal für eine 
 inspirierende Auszeit mit Genuss und guter Stimmung.
URL:https://www.meinplaner.com
DTSTART;TZID=Europe/Amsterdam:20260424T183000
DTEND;TZID=Europe/Amsterdam:20260424T233000
LOCATION:Bahnhofsstr.  45\, 09430 Drebach
BEGIN:VALARM
ACTION:DISPLAY
DESCRIPTION:Erinnerung: Cocktail & Paint in der Lumipöllö Lounge beginnt 
 in 1 Stunde
TRIGGER;RELATED=END:-PT1H
END:VALARM
END:VEVENT
END:VCALENDAR
