BEGIN:VCALENDAR
PRODID:-//eluceo/ical//2.0/EN
VERSION:2.0
CALSCALE:GREGORIAN
BEGIN:VEVENT
UID:9f1a0082463c791d03bd563b445b0a16
DTSTAMP:20260419T163251Z
SUMMARY:Französische Genüsse in historischem Ambiente
DESCRIPTION:Die Brasserie „La Reine“ lädt zu kulinarischen französisc
 hen Genüssen ein. Die Auswahl aus regionalen und nachhaltigen Spezialitä
 ten wie Clubsandwiches\, Burgern oder leckerer Patisserie sowie aromatisch
 en Kaffeespezialitäten lässt keine Wünsche offen.
URL:https://www.meinplaner.com
DTSTART;TZID=Europe/Amsterdam:20260422T160000
DTEND;TZID=Europe/Amsterdam:20260422T220000
LOCATION:Schlossallee  1\, 09577 Niederwiesa
BEGIN:VALARM
ACTION:DISPLAY
DESCRIPTION:Erinnerung: Französische Genüsse in historischem Ambiente beg
 innt in 1 Stunde
TRIGGER;RELATED=END:-PT1H
END:VALARM
END:VEVENT
END:VCALENDAR
