BEGIN:VCALENDAR
PRODID:-//eluceo/ical//2.0/EN
VERSION:2.0
CALSCALE:GREGORIAN
BEGIN:VEVENT
UID:12186e5cdfce54a5a60cc5a5f7e43247
DTSTAMP:20260424T081401Z
SUMMARY:Autorenlesung mit Prof. Dr. Karl-Heinz Binus
DESCRIPTION:Ein spannender Abend mit Prof. Dr. Karl-Heinz Binus erwartet da
 s Publikum: Er liest aus „Erzgebirgskristalle“ und führt in eine fess
 elnde Geschichte voller regionaler Atmosphäre\, dunkler Geheimnisse und p
 ackender Einblicke in Drogenwelt und Verbrechen.
URL:https://www.meinplaner.com
DTSTART;TZID=Europe/Amsterdam:20260617T193000
DTEND;TZID=Europe/Amsterdam:20260617T213000
LOCATION:An der Silber-Therme 1\, 09429 Wolkenstein
BEGIN:VALARM
ACTION:DISPLAY
DESCRIPTION:Erinnerung: Autorenlesung mit Prof. Dr. Karl-Heinz Binus beginn
 t in 1 Stunde
TRIGGER;RELATED=END:-PT1H
END:VALARM
END:VEVENT
END:VCALENDAR
