BEGIN:VCALENDAR
PRODID:-//eluceo/ical//2.0/EN
VERSION:2.0
CALSCALE:GREGORIAN
BEGIN:VEVENT
UID:e7d0180ac38e41dc5bd66f7452fe7672
DTSTAMP:20260422T003354Z
SUMMARY:Hexenfeuer
DESCRIPTION:Wenn die Flammen in den Himmel schlagen\, beginnt ein stimmungs
 voller Abend rund ums traditionelle Hexenfeuer. In geselliger Atmosphäre 
 treffen sich Jung und Alt\, genießen das Knistern des Feuers und lassen d
 en Abend entspannt ausklingen. 
URL:https://www.meinplaner.com
DTSTART;TZID=Europe/Amsterdam:20260430T170000
DTEND;TZID=Europe/Amsterdam:20260430T190000
LOCATION:Lengenfelder Str. 53a\, 08115 Lichtentanne
BEGIN:VALARM
ACTION:DISPLAY
DESCRIPTION:Erinnerung: Hexenfeuer beginnt in 1 Stunde
TRIGGER;RELATED=END:-PT1H
END:VALARM
END:VEVENT
END:VCALENDAR
