BEGIN:VCALENDAR
PRODID:-//eluceo/ical//2.0/EN
VERSION:2.0
CALSCALE:GREGORIAN
BEGIN:VEVENT
UID:84fb9c1dff1d488b63cd061a859d7469
DTSTAMP:20260420T145545Z
SUMMARY:Yoga: Gönn' dir eine Auszeit im Schloss Rochlitz
DESCRIPTION:Im Schloss Rochlitz bietet Hatha Yoga die Möglichkeit\, Körpe
 r und Geist zu stärken und zu entspannen. Durch achtsame Bewegungen und b
 ewusstes Atmen wird die Beweglichkeit gefördert und das Wohlbefinden gest
 eigert. 
URL:https://www.meinplaner.com
DTSTART;TZID=Europe/Amsterdam:20260530T103000
DTEND;TZID=Europe/Amsterdam:20260530T113000
LOCATION:Sörnziger Weg 1\, 09306 Rochlitz
BEGIN:VALARM
ACTION:DISPLAY
DESCRIPTION:Erinnerung: Yoga: Gönn' dir eine Auszeit im Schloss Rochlitz b
 eginnt in 1 Stunde
TRIGGER;RELATED=END:-PT1H
END:VALARM
END:VEVENT
END:VCALENDAR
