BEGIN:VCALENDAR
PRODID:-//eluceo/ical//2.0/EN
VERSION:2.0
CALSCALE:GREGORIAN
BEGIN:VEVENT
UID:95fa9009d43631f1d035c9426f17c650
DTSTAMP:20260420T215730Z
SUMMARY:Gemütlich\, lecker\, einladend
DESCRIPTION:Im Hofcafé in Mülsen erwartet die Gäste ein Genussparadies m
 it Torten aus der Bäckerei Korb\, selbstgebackenen Kuchen\, herzhaften Sp
 eisen\, leckeren Snacks\, Kaffeespezialitäten vom Café do Brasil und imm
 er wieder köstlichen Überraschungen.
URL:https://www.meinplaner.com
DTSTART;TZID=Europe/Amsterdam:20260423T140000
DTEND;TZID=Europe/Amsterdam:20260423T210000
LOCATION:Niedermülsener Hauptstr. 88\, 08132 Mülsen
BEGIN:VALARM
ACTION:DISPLAY
DESCRIPTION:Erinnerung: Gemütlich\, lecker\, einladend beginnt in 1 Stunde
TRIGGER;RELATED=END:-PT1H
END:VALARM
END:VEVENT
END:VCALENDAR
