BEGIN:VCALENDAR
PRODID:-//eluceo/ical//2.0/EN
VERSION:2.0
CALSCALE:GREGORIAN
BEGIN:VEVENT
UID:16fae36e025eeafcab766d03c4a17791
DTSTAMP:20260419T163418Z
SUMMARY:Französische Lebensart in der City
DESCRIPTION:La Bouchée\, zu Deutsch Kleinigkeit\, Mundhappen\, bedeutet ni
 cht\, dass es im typisch französischen Ambiente des gleichnamigen Bistros
  nur ebendiese gibt. Das Frühstücksangebot ist groß.  Später Austernsc
 hlürfen\, Weinbergschnecken\, Miesmuscheln -bon appétit.
URL:https://www.meinplaner.com
DTSTART;TZID=Europe/Amsterdam:20260420T090000
DTEND;TZID=Europe/Amsterdam:20260420T220000
LOCATION:Innere Klosterstr. 9\, 09111 Chemnitz
BEGIN:VALARM
ACTION:DISPLAY
DESCRIPTION:Erinnerung: Französische Lebensart in der City beginnt in 1 St
 unde
TRIGGER;RELATED=END:-PT1H
END:VALARM
END:VEVENT
END:VCALENDAR
