BEGIN:VCALENDAR
PRODID:-//eluceo/ical//2.0/EN
VERSION:2.0
CALSCALE:GREGORIAN
BEGIN:VEVENT
UID:9ce2120df4662d01bed53fbbe5218a69
DTSTAMP:20260419T134753Z
SUMMARY:Lachyoga - Liebe dein Lachen
DESCRIPTION:Zu dem Gute-Laune-Training für Körper\, Geist und Seele mit A
 riane Lenk ist jeder herzlich willkommen.
URL:https://www.meinplaner.com
DTSTART;TZID=Europe/Amsterdam:20260422T190000
DTEND;TZID=Europe/Amsterdam:20260422T210000
LOCATION:Freiberger Str. 33\, 09488 Thermalbad Wiesenbad
BEGIN:VALARM
ACTION:DISPLAY
DESCRIPTION:Erinnerung: Lachyoga - Liebe dein Lachen beginnt in 1 Stunde
TRIGGER;RELATED=END:-PT1H
END:VALARM
END:VEVENT
END:VCALENDAR
