BEGIN:VCALENDAR
PRODID:-//eluceo/ical//2.0/EN
VERSION:2.0
CALSCALE:GREGORIAN
BEGIN:VEVENT
UID:f77490477e11e3b8003d781efcb92a8c
DTSTAMP:20260425T183604Z
SUMMARY:Carsten am Kla4 - lustig zum Zuhören
DESCRIPTION:Die Besucher erwartet ein lustiger und unterhaltsamer Konzertab
 end\, bei dem Carsten mit humorvollen Geschichten\, witzigen Anekdoten und
  musikalischen Einlagen garantiert für gute Laune sorgt und zum Zuhören 
 einlädt.
URL:https://www.meinplaner.com
DTSTART;TZID=Europe/Amsterdam:20260512T193000
DTEND;TZID=Europe/Amsterdam:20260512T213000
LOCATION:Am Kurpark  10\, 09429 Wolkenstein
BEGIN:VALARM
ACTION:DISPLAY
DESCRIPTION:Erinnerung: Carsten am Kla4 - lustig zum Zuhören beginnt in 1 
 Stunde
TRIGGER;RELATED=END:-PT1H
END:VALARM
END:VEVENT
END:VCALENDAR
