BEGIN:VCALENDAR
PRODID:-//eluceo/ical//2.0/EN
VERSION:2.0
CALSCALE:GREGORIAN
BEGIN:VEVENT
UID:fa1975c5026aa0071d46beda7ac1650f
DTSTAMP:20260419T223455Z
SUMMARY:Regionale Küche klassisch oder neu interpretiert
DESCRIPTION:Seit 300 Jahren kehren Gäste hier ein. Heute wird deftige Haus
 mannskost neu und modern interpretiert. Mit hochwertigen Produkten aus der
  Region variieren die Speisen saisonal. Es wird neu kreiert aber auch klas
 sisch traditionell gekocht.  
URL:https://www.meinplaner.com
DTSTART;TZID=Europe/Amsterdam:20260421T110000
DTEND;TZID=Europe/Amsterdam:20260421T140000
LOCATION:Fürstenplatz 5\, 08289 Schneeberg
BEGIN:VALARM
ACTION:DISPLAY
DESCRIPTION:Erinnerung: Regionale Küche klassisch oder neu interpretiert b
 eginnt in 1 Stunde
TRIGGER;RELATED=END:-PT1H
END:VALARM
END:VEVENT
END:VCALENDAR
