BEGIN:VCALENDAR
PRODID:-//eluceo/ical//2.0/EN
VERSION:2.0
CALSCALE:GREGORIAN
BEGIN:VEVENT
UID:a9942a3cb1f6fe3fde695023e25d4e56
DTSTAMP:20260420T110828Z
SUMMARY:Deutsche Meisterschaften Quatro Beachvolleyball
DESCRIPTION:Im Sonnenbad Rußdorf in Limbach-Oberfrohna treffen die besten 
 Mixed-Teams Deutschlands aufeinander\, um den Titel im Quattro Beachvolley
 ball auszuspielen. Gespielt wird im Viererformat mit Teams aus dem gesamte
 n Bundesgebiet.
URL:https://www.meinplaner.com
DTSTART;TZID=Europe/Amsterdam:20260718T090000
DTEND;TZID=Europe/Amsterdam:20260718T180000
LOCATION:Am Gemeindewald 1\, 09212 Limbach-Oberfrohna
BEGIN:VALARM
ACTION:DISPLAY
DESCRIPTION:Erinnerung: Deutsche Meisterschaften Quatro Beachvolleyball beg
 innt in 1 Stunde
TRIGGER;RELATED=END:-PT1H
END:VALARM
END:VEVENT
END:VCALENDAR
